BEGIN:VCALENDAR
METHOD:REQUEST
PRODID:-//events.orgNONSGML ical.net 4.0//EN
VERSION:2.0
BEGIN:VEVENT
DTEND;VALUE=DATE:20260606
DTSTAMP:20260421T104310Z
DTSTART;VALUE=DATE:20260606
LOCATION:Summit Music Hall\, Denver
ORGANIZER;CN=:mailto:events@events.org
SEQUENCE:0
SUMMARY:Yot Club - Simpleton Tour
UID:46d18479-640c-46ba-8a3d-cc0c9e7a00f9
URL:https://events.org/e/Yot-Club---Simpleton-Tour/A9PFD5OD
BEGIN:VALARM
ACTION:DISPLAY
SUMMARY:Reminder
TRIGGER:-P1D
END:VALARM
END:VEVENT
END:VCALENDAR
