BEGIN:VCALENDAR
METHOD:REQUEST
PRODID:-//events.orgNONSGML ical.net 4.0//EN
VERSION:2.0
BEGIN:VEVENT
DTEND;VALUE=DATE:20260307
DTSTAMP:20260421T082000Z
DTSTART;VALUE=DATE:20260307
LOCATION:Irving Plaza Powered By Verizon 5G\, New York
ORGANIZER;CN=:mailto:events@events.org
SEQUENCE:0
SUMMARY:Puma Blue
UID:0241a525-6f77-4f85-8182-7bee3de67e6f
URL:https://events.org/e/Puma-Blue/B7C3B2QT
BEGIN:VALARM
ACTION:DISPLAY
SUMMARY:Reminder
TRIGGER:-P1D
END:VALARM
END:VEVENT
END:VCALENDAR
