BEGIN:VCALENDAR
METHOD:REQUEST
PRODID:-//events.orgNONSGML ical.net 4.0//EN
VERSION:2.0
BEGIN:VEVENT
DTEND;VALUE=DATE:20260524
DTSTAMP:20260419T142817Z
DTSTART;VALUE=DATE:20260524
LOCATION:Terminal West\, Atlanta
ORGANIZER;CN=:mailto:events@events.org
SEQUENCE:0
SUMMARY:Uncle Lucius
UID:91e71ab9-88d4-4a45-8a99-676cedf8bfdc
URL:https://events.org/e/Uncle-Lucius/WQ5COUY2
BEGIN:VALARM
ACTION:DISPLAY
SUMMARY:Reminder
TRIGGER:-P1D
END:VALARM
END:VEVENT
END:VCALENDAR
