BEGIN:VCALENDAR
METHOD:REQUEST
PRODID:-//events.orgNONSGML ical.net 4.0//EN
VERSION:2.0
BEGIN:VEVENT
DTEND;VALUE=DATE:20261028
DTSTAMP:20260421T132529Z
DTSTART;VALUE=DATE:20261028
LOCATION:Majestic Theatre Dallas\, Dallas
ORGANIZER;CN=:mailto:events@events.org
SEQUENCE:0
SUMMARY:Daniel Sloss: BITTER  (Brand New Tour!)
UID:21701920-3036-4429-af16-6d27b6fcfe63
URL:https://events.org/e/Daniel-Sloss-BITTER-Brand-New-Tour/9KH96LYW
BEGIN:VALARM
ACTION:DISPLAY
SUMMARY:Reminder
TRIGGER:-P1D
END:VALARM
END:VEVENT
END:VCALENDAR
