BEGIN:VCALENDAR
METHOD:REQUEST
PRODID:-//events.orgNONSGML ical.net 4.0//EN
VERSION:2.0
BEGIN:VEVENT
DTEND;VALUE=DATE:20261008
DTSTAMP:20260422T092013Z
DTSTART;VALUE=DATE:20261008
LOCATION:Citizens Opera House\, Boston
ORGANIZER;CN=:mailto:events@events.org
SEQUENCE:0
SUMMARY:Wicked (Touring)
UID:e117898b-81ad-45a8-94d6-c0abb3401c0c
URL:https://events.org/e/Wicked-Touring/KR6AK5RS
BEGIN:VALARM
ACTION:DISPLAY
SUMMARY:Reminder
TRIGGER:-P1D
END:VALARM
END:VEVENT
END:VCALENDAR
