BEGIN:VCALENDAR
METHOD:REQUEST
PRODID:-//events.orgNONSGML ical.net 4.0//EN
VERSION:2.0
BEGIN:VEVENT
DTEND;VALUE=DATE:20260618
DTSTAMP:20260422T091649Z
DTSTART;VALUE=DATE:20260618
LOCATION:Agganis Arena\, Boston
ORGANIZER;CN=:mailto:events@events.org
SEQUENCE:0
SUMMARY:Martin Garrix
UID:e058a5f3-9504-4495-b16f-f5a36afaad5d
URL:https://events.org/e/Martin-Garrix/THHRNSLH
BEGIN:VALARM
ACTION:DISPLAY
SUMMARY:Reminder
TRIGGER:-P1D
END:VALARM
END:VEVENT
END:VCALENDAR
