BEGIN:VCALENDAR
METHOD:REQUEST
PRODID:-//events.orgNONSGML ical.net 4.0//EN
VERSION:2.0
BEGIN:VEVENT
DTEND;VALUE=DATE:20260529
DTSTAMP:20260421T094425Z
DTSTART;VALUE=DATE:20260529
LOCATION:Truist Park\, Atlanta
ORGANIZER;CN=:mailto:events@events.org
SEQUENCE:0
SUMMARY:Tours: Truist Park
UID:4f15655b-010f-4a0a-b038-9b8ea5677917
URL:https://events.org/e/Tours-Truist-Park/CSGW4GJS
BEGIN:VALARM
ACTION:DISPLAY
SUMMARY:Reminder
TRIGGER:-P1D
END:VALARM
END:VEVENT
END:VCALENDAR
