BEGIN:VCALENDAR
METHOD:REQUEST
PRODID:-//events.orgNONSGML ical.net 4.0//EN
VERSION:2.0
BEGIN:VEVENT
DTEND;VALUE=DATE:20260619
DTSTAMP:20260423T133811Z
DTSTART;VALUE=DATE:20260619
LOCATION:Just the Funny\, Miami
ORGANIZER;CN=:mailto:events@events.org
SEQUENCE:0
SUMMARY:Friday Night Live - Improv Comedy Miami Show
UID:858f8d3b-7cd6-4947-9b72-1cb58506af32
URL:https://events.org/e/Friday-Night-Live---Improv-Comedy-Miami-Show/FVLS
 O46U
BEGIN:VALARM
ACTION:DISPLAY
SUMMARY:Reminder
TRIGGER:-P1D
END:VALARM
END:VEVENT
END:VCALENDAR
