BEGIN:VCALENDAR
METHOD:REQUEST
PRODID:-//events.orgNONSGML ical.net 4.0//EN
VERSION:2.0
BEGIN:VEVENT
DTEND;VALUE=DATE:20260617
DTSTAMP:20260423T133838Z
DTSTART;VALUE=DATE:20260617
LOCATION:Jack White Theatre at the Masonic Temple - Detroit\, Detroit
ORGANIZER;CN=:mailto:events@events.org
SEQUENCE:0
SUMMARY:Max Richter w/ American Contemporary Music Ensemble
UID:e727d54f-c685-4d86-8584-80db10299005
URL:https://events.org/e/Max-Richter-w-American-Contemporary-Music-Ensembl
 e/YV6PV6K2
BEGIN:VALARM
ACTION:DISPLAY
SUMMARY:Reminder
TRIGGER:-P1D
END:VALARM
END:VEVENT
END:VCALENDAR
