BEGIN:VCALENDAR
METHOD:REQUEST
PRODID:-//events.orgNONSGML ical.net 4.0//EN
VERSION:2.0
BEGIN:VEVENT
DTEND;VALUE=DATE:20260701
DTSTAMP:20260422T090044Z
DTSTART;VALUE=DATE:20260701
LOCATION:Lumen Field\, Seattle
ORGANIZER;CN=:mailto:events@events.org
SEQUENCE:0
SUMMARY:World Cup Round of 32: 1G vs. TBD (Match 82)
UID:a5131f57-0d10-426e-b837-7ef34cf09999
URL:https://events.org/e/World-Cup-Round-of-32-1G-vs-TBD-Match-82/OWCRHM5F
BEGIN:VALARM
ACTION:DISPLAY
SUMMARY:Reminder
TRIGGER:-P1D
END:VALARM
END:VEVENT
END:VCALENDAR
