BEGIN:VCALENDAR
METHOD:REQUEST
PRODID:-//events.orgNONSGML ical.net 4.0//EN
VERSION:2.0
BEGIN:VEVENT
DTEND;VALUE=DATE:20260528
DTSTAMP:20260423T133838Z
DTSTART;VALUE=DATE:20260528
LOCATION:Lincoln Theatre\, Washington
ORGANIZER;CN=:mailto:events@events.org
SEQUENCE:0
SUMMARY:Spain My Way -- Live with José Andrés
UID:662be6c0-df53-4313-97f8-6c2ecc8b4e5e
URL:https://events.org/e/Spain-My-Way----Live-with-Jose-Andres/NNXACBTB
BEGIN:VALARM
ACTION:DISPLAY
SUMMARY:Reminder
TRIGGER:-P1D
END:VALARM
END:VEVENT
END:VCALENDAR
