BEGIN:VCALENDAR
METHOD:REQUEST
PRODID:-//events.orgNONSGML ical.net 4.0//EN
VERSION:2.0
BEGIN:VEVENT
DTEND;VALUE=DATE:20260425
DTSTAMP:20260421T094818Z
DTSTART;VALUE=DATE:20260425
LOCATION:Garcia's Chicago\, Chicago
ORGANIZER;CN=:mailto:events@events.org
SEQUENCE:0
SUMMARY:Fantastic Cat
UID:6794546a-e541-49c9-8027-3afea88052d6
URL:https://events.org/e/Fantastic-Cat/YRDLIGIT
BEGIN:VALARM
ACTION:DISPLAY
SUMMARY:Reminder
TRIGGER:-P1D
END:VALARM
END:VEVENT
END:VCALENDAR
