BEGIN:VCALENDAR
METHOD:REQUEST
PRODID:-//events.orgNONSGML ical.net 4.0//EN
VERSION:2.0
BEGIN:VEVENT
DTEND;VALUE=DATE:20260522
DTSTAMP:20260421T114959Z
DTSTART;VALUE=DATE:20260522
LOCATION:Nectar Lounge\, Seattle
ORGANIZER;CN=:mailto:events@events.org
SEQUENCE:0
SUMMARY:Fareed Haque Trio (21+ Event)
UID:1684d9cb-4f9f-41b9-b6d1-be6c8a3ecf3a
URL:https://events.org/e/Fareed-Haque-Trio-21-Event/OWEQ4BUY
BEGIN:VALARM
ACTION:DISPLAY
SUMMARY:Reminder
TRIGGER:-P1D
END:VALARM
END:VEVENT
END:VCALENDAR
