BEGIN:VCALENDAR
METHOD:REQUEST
PRODID:-//events.orgNONSGML ical.net 4.0//EN
VERSION:2.0
BEGIN:VEVENT
DTEND;VALUE=DATE:20260607
DTSTAMP:20260424T092623Z
DTSTART;VALUE=DATE:20260607
LOCATION:Aisle 5\, Atlanta
ORGANIZER;CN=:mailto:events@events.org
SEQUENCE:0
SUMMARY:Morgan St. Jean
UID:245b615f-5cb6-4fb3-bf28-b164c3f68a41
URL:https://events.org/e/Morgan-St-Jean/CITF54PD
BEGIN:VALARM
ACTION:DISPLAY
SUMMARY:Reminder
TRIGGER:-P1D
END:VALARM
END:VEVENT
END:VCALENDAR
