BEGIN:VCALENDAR
METHOD:REQUEST
PRODID:-//events.orgNONSGML ical.net 4.0//EN
VERSION:2.0
BEGIN:VEVENT
DTEND;VALUE=DATE:20260509
DTSTAMP:20260421T104317Z
DTSTART;VALUE=DATE:20260509
LOCATION:Nectar Lounge\, Seattle
ORGANIZER;CN=:mailto:events@events.org
SEQUENCE:0
SUMMARY:Miguel Migs (21+ Event)
UID:5c62a9fe-71ef-4354-b436-78cfd6c57d81
URL:https://events.org/e/Miguel-Migs-21-Event/WYUQQN8I
BEGIN:VALARM
ACTION:DISPLAY
SUMMARY:Reminder
TRIGGER:-P1D
END:VALARM
END:VEVENT
END:VCALENDAR
