BEGIN:VCALENDAR
METHOD:REQUEST
PRODID:-//events.orgNONSGML ical.net 4.0//EN
VERSION:2.0
BEGIN:VEVENT
DTEND;VALUE=DATE:20260626
DTSTAMP:20260421T103936Z
DTSTART;VALUE=DATE:20260626
LOCATION:Brooklyn Bowl Philadelphia\, Philadelphia
ORGANIZER;CN=:mailto:events@events.org
SEQUENCE:0
SUMMARY:Galactic (21+)
UID:2c6850f1-8170-4b99-a5c9-7185a900106c
URL:https://events.org/e/Galactic-21/8AW3XSN4
BEGIN:VALARM
ACTION:DISPLAY
SUMMARY:Reminder
TRIGGER:-P1D
END:VALARM
END:VEVENT
END:VCALENDAR
