BEGIN:VCALENDAR
METHOD:REQUEST
PRODID:-//events.orgNONSGML ical.net 4.0//EN
VERSION:2.0
BEGIN:VEVENT
DTEND;VALUE=DATE:20260429
DTSTAMP:20260424T080614Z
DTSTART;VALUE=DATE:20260429
LOCATION:Stage 42\, New York
ORGANIZER;CN=:mailto:events@events.org
SEQUENCE:0
SUMMARY:Gotta Dance!
UID:35993cbb-abf8-4379-a9cc-b25d5eea189e
URL:https://events.org/e/Gotta-Dance/BDFFAW3C
BEGIN:VALARM
ACTION:DISPLAY
SUMMARY:Reminder
TRIGGER:-P1D
END:VALARM
END:VEVENT
END:VCALENDAR
