BEGIN:VCALENDAR
METHOD:REQUEST
PRODID:-//events.orgNONSGML ical.net 4.0//EN
VERSION:2.0
BEGIN:VEVENT
DTEND;VALUE=DATE:20260429
DTSTAMP:20260424T081222Z
DTSTART;VALUE=DATE:20260429
LOCATION:Palace Theatre New York\, New York
ORGANIZER;CN=:mailto:events@events.org
SEQUENCE:0
SUMMARY:The Lost Boys
UID:c9db1faa-4944-48f0-a3a4-43c90b8cc0cf
URL:https://events.org/e/The-Lost-Boys/9HIE4OSS
BEGIN:VALARM
ACTION:DISPLAY
SUMMARY:Reminder
TRIGGER:-P1D
END:VALARM
END:VEVENT
END:VCALENDAR
