BEGIN:VCALENDAR
METHOD:REQUEST
PRODID:-//events.orgNONSGML ical.net 4.0//EN
VERSION:2.0
BEGIN:VEVENT
DTEND;VALUE=DATE:20260722
DTSTAMP:20260422T092501Z
DTSTART;VALUE=DATE:20260722
LOCATION:Houston Improv\, Houston
ORGANIZER;CN=:mailto:events@events.org
SEQUENCE:0
SUMMARY:Andy Gross
UID:84b9005c-4da6-4e22-98c3-ecd0948c3dd7
URL:https://events.org/e/Andy-Gross/TA4A259X
BEGIN:VALARM
ACTION:DISPLAY
SUMMARY:Reminder
TRIGGER:-P1D
END:VALARM
END:VEVENT
END:VCALENDAR
