BEGIN:VCALENDAR
METHOD:REQUEST
PRODID:-//events.orgNONSGML ical.net 4.0//EN
VERSION:2.0
BEGIN:VEVENT
DTEND;VALUE=DATE:20260717
DTSTAMP:20260419T154235Z
DTSTART;VALUE=DATE:20260717
LOCATION:Lisner Auditorium\, Washington
ORGANIZER;CN=:mailto:events@events.org
SEQUENCE:0
SUMMARY:Program Only - America 250 Washington Tattoo
UID:97d0978e-59cf-4b9d-b9a9-c7df1a8c83b8
URL:https://events.org/e/Program-Only---America-250-Washington-Tattoo/OHIN
 BCYG
BEGIN:VALARM
ACTION:DISPLAY
SUMMARY:Reminder
TRIGGER:-P1D
END:VALARM
END:VEVENT
END:VCALENDAR
