BEGIN:VCALENDAR
METHOD:REQUEST
PRODID:-//events.orgNONSGML ical.net 4.0//EN
VERSION:2.0
BEGIN:VEVENT
DTEND;VALUE=DATE:20260828
DTSTAMP:20260424T092425Z
DTSTART;VALUE=DATE:20260828
LOCATION:Thunderbird Lounge\, Phoenix
ORGANIZER;CN=:mailto:events@events.org
SEQUENCE:0
SUMMARY:No Scrubs - 90's + Early 00's Night
UID:aa1019db-2769-41e9-bb7b-b97c9f481a45
URL:https://events.org/e/No-Scrubs---90s-Early-00s-Night/B5B9YOF9
BEGIN:VALARM
ACTION:DISPLAY
SUMMARY:Reminder
TRIGGER:-P1D
END:VALARM
END:VEVENT
END:VCALENDAR
