BEGIN:VCALENDAR
METHOD:REQUEST
PRODID:-//events.orgNONSGML ical.net 4.0//EN
VERSION:2.0
BEGIN:VEVENT
DTEND;VALUE=DATE:20260531
DTSTAMP:20260423T154133Z
DTSTART;VALUE=DATE:20260531
LOCATION:CareFirst Arena\, Washington
ORGANIZER;CN=:mailto:events@events.org
SEQUENCE:0
SUMMARY:Washington Mystics vs. Dallas Wings: Playa Society Special Offer
UID:6fa255d8-c738-49fb-8043-1bfeeca46885
URL:https://events.org/e/Washington-Mystics-vs-Dallas-Wings-Playa-Soci/2NX
 3RCUX
BEGIN:VALARM
ACTION:DISPLAY
SUMMARY:Reminder
TRIGGER:-P1D
END:VALARM
END:VEVENT
END:VCALENDAR
