BEGIN:VCALENDAR
METHOD:REQUEST
PRODID:-//events.orgNONSGML ical.net 4.0//EN
VERSION:2.0
BEGIN:VEVENT
DTEND;VALUE=DATE:20260527
DTSTAMP:20260421T082535Z
DTSTART;VALUE=DATE:20260527
LOCATION:The Castro Theatre\, San Francisco
ORGANIZER;CN=:mailto:events@events.org
SEQUENCE:0
SUMMARY:Prof G Markets with Scott Galloway and Ed Elson
UID:c84f922b-c43d-46c3-a00f-5d8ab2bc8fd8
URL:https://events.org/e/Prof-G-Markets-with-Scott-Galloway-and-Ed-Elson/D
 LUTK3JP
BEGIN:VALARM
ACTION:DISPLAY
SUMMARY:Reminder
TRIGGER:-P1D
END:VALARM
END:VEVENT
END:VCALENDAR
