BEGIN:VCALENDAR
METHOD:REQUEST
PRODID:-//events.orgNONSGML ical.net 4.0//EN
VERSION:2.0
BEGIN:VEVENT
DTEND;VALUE=DATE:20270109
DTSTAMP:20260419T143955Z
DTSTART;VALUE=DATE:20270109
LOCATION:Music Hall Center\, Detroit
ORGANIZER;CN=:mailto:events@events.org
SEQUENCE:0
SUMMARY:Pink Floyd's Dark Side of the Moon-Concert
UID:c388b818-a3a0-4964-bd6e-9e16604d6a0d
URL:https://events.org/e/Pink-Floyds-Dark-Side-of-the-Moon-Concert/E7P3T7N9
BEGIN:VALARM
ACTION:DISPLAY
SUMMARY:Reminder
TRIGGER:-P1D
END:VALARM
END:VEVENT
END:VCALENDAR
