BEGIN:VCALENDAR
METHOD:REQUEST
PRODID:-//events.orgNONSGML ical.net 4.0//EN
VERSION:2.0
BEGIN:VEVENT
DTEND;VALUE=DATE:20260617
DTSTAMP:20260419T142818Z
DTSTART;VALUE=DATE:20260617
LOCATION:Citizens Bank Park\, Philadelphia
ORGANIZER;CN=:mailto:events@events.org
SEQUENCE:0
SUMMARY:Philadelphia Phillies vs Miami Marlins: Nemours Children's Health 
 Kids Run the Bases
UID:61dc5bf1-d376-423c-9456-a56eade7f474
URL:https://events.org/e/Philadelphia-Phillies-vs-Miami-Marlins-Nemour/R8G
 5J7IR
BEGIN:VALARM
ACTION:DISPLAY
SUMMARY:Reminder
TRIGGER:-P1D
END:VALARM
END:VEVENT
END:VCALENDAR
