BEGIN:VCALENDAR
METHOD:REQUEST
PRODID:-//events.orgNONSGML ical.net 4.0//EN
VERSION:2.0
BEGIN:VEVENT
DTEND;VALUE=DATE:20260516
DTSTAMP:20260424T092617Z
DTSTART;VALUE=DATE:20260516
LOCATION:Walter WhereHouse\, Phoenix
ORGANIZER;CN=:mailto:events@events.org
SEQUENCE:0
SUMMARY:Porangui - Dance Ceremony
UID:0923b488-cabc-4f66-b7e3-0c8b6fde9c74
URL:https://events.org/e/Porangui---Dance-Ceremony/H6XNF6GX
BEGIN:VALARM
ACTION:DISPLAY
SUMMARY:Reminder
TRIGGER:-P1D
END:VALARM
END:VEVENT
END:VCALENDAR
