BEGIN:VCALENDAR
METHOD:REQUEST
PRODID:-//events.orgNONSGML ical.net 4.0//EN
VERSION:2.0
BEGIN:VEVENT
DTEND;VALUE=DATE:20260709
DTSTAMP:20260421T145048Z
DTSTART;VALUE=DATE:20260709
LOCATION:PETCO Park\, San Diego
ORGANIZER;CN=:mailto:events@events.org
SEQUENCE:0
SUMMARY:San Diego Padres vs. Arizona Diamondbacks
UID:c9153c09-aff4-403f-8e39-b49089a2033a
URL:https://events.org/e/San-Diego-Padres-vs-Arizona-Diamondbacks/AWDTUIQT
BEGIN:VALARM
ACTION:DISPLAY
SUMMARY:Reminder
TRIGGER:-P1D
END:VALARM
END:VEVENT
END:VCALENDAR
