BEGIN:VCALENDAR
METHOD:REQUEST
PRODID:-//events.orgNONSGML ical.net 4.0//EN
VERSION:2.0
BEGIN:VEVENT
DTEND;VALUE=DATE:20260528
DTSTAMP:20260419T142315Z
DTSTART;VALUE=DATE:20260528
LOCATION:Truist Park\, Atlanta
ORGANIZER;CN=:mailto:events@events.org
SEQUENCE:0
SUMMARY:Tours: Truist Park
UID:27abae00-4468-4f92-950c-efbf7be48858
URL:https://events.org/e/Tours-Truist-Park/8GY3BVDJ
BEGIN:VALARM
ACTION:DISPLAY
SUMMARY:Reminder
TRIGGER:-P1D
END:VALARM
END:VEVENT
END:VCALENDAR
