BEGIN:VCALENDAR
METHOD:REQUEST
PRODID:-//events.orgNONSGML ical.net 4.0//EN
VERSION:2.0
BEGIN:VEVENT
DTEND;VALUE=DATE:20260626
DTSTAMP:20260422T090310Z
DTSTART;VALUE=DATE:20260626
LOCATION:Tractor\, Seattle
ORGANIZER;CN=:mailto:events@events.org
SEQUENCE:0
SUMMARY:Star Anna and the Laughing Dogs w/ The Black Tones\, Parshall Blue
UID:34fd2e21-c67c-4a03-b1ce-da831a9a52e7
URL:https://events.org/e/Star-Anna-and-the-Laughing-Dogs-w-The-Black-T/MV4
 XI4KW
BEGIN:VALARM
ACTION:DISPLAY
SUMMARY:Reminder
TRIGGER:-P1D
END:VALARM
END:VEVENT
END:VCALENDAR
