BEGIN:VCALENDAR
METHOD:REQUEST
PRODID:-//events.orgNONSGML ical.net 4.0//EN
VERSION:2.0
BEGIN:VEVENT
DTEND;VALUE=DATE:20260613
DTSTAMP:20260421T095122Z
DTSTART;VALUE=DATE:20260613
LOCATION:Theatre of Living Arts\, Philadelphia
ORGANIZER;CN=:mailto:events@events.org
SEQUENCE:0
SUMMARY:Enter Shikari: North America 2026
UID:7812a5e4-3593-4663-9afd-3816c9a4ad41
URL:https://events.org/e/Enter-Shikari-North-America-2026/NM6Q3O89
BEGIN:VALARM
ACTION:DISPLAY
SUMMARY:Reminder
TRIGGER:-P1D
END:VALARM
END:VEVENT
END:VCALENDAR
