BEGIN:VCALENDAR
METHOD:REQUEST
PRODID:-//events.orgNONSGML ical.net 4.0//EN
VERSION:2.0
BEGIN:VEVENT
DTEND;VALUE=DATE:20260701
DTSTAMP:20260422T085300Z
DTSTART;VALUE=DATE:20260701
LOCATION:Climate Pledge Arena\, Seattle
ORGANIZER;CN=:mailto:events@events.org
SEQUENCE:0
SUMMARY:Summer Walker: Still Finally Over It Tour
UID:5f53f6c9-49f3-4a2c-8da0-658331e313a1
URL:https://events.org/e/Summer-Walker-Still-Finally-Over-It-Tour/Y3MU39CL
BEGIN:VALARM
ACTION:DISPLAY
SUMMARY:Reminder
TRIGGER:-P1D
END:VALARM
END:VEVENT
END:VCALENDAR
