BEGIN:VCALENDAR
METHOD:REQUEST
PRODID:-//events.orgNONSGML ical.net 4.0//EN
VERSION:2.0
BEGIN:VEVENT
DTEND;VALUE=DATE:20260610
DTSTAMP:20260421T095529Z
DTSTART;VALUE=DATE:20260610
LOCATION:Swedish American Hall\, San Francisco
ORGANIZER;CN=:mailto:events@events.org
SEQUENCE:0
SUMMARY:Flawed Mangoes: The Killswitch Memories Tour
UID:ba819c79-2655-46b2-9acf-c3cf3a5a05e2
URL:https://events.org/e/Flawed-Mangoes-The-Killswitch-Memories-Tour/LWS9N
 B59
BEGIN:VALARM
ACTION:DISPLAY
SUMMARY:Reminder
TRIGGER:-P1D
END:VALARM
END:VEVENT
END:VCALENDAR
