BEGIN:VCALENDAR
METHOD:REQUEST
PRODID:-//events.orgNONSGML ical.net 4.0//EN
VERSION:2.0
BEGIN:VEVENT
DTEND;VALUE=DATE:20260426
DTSTAMP:20260421T095904Z
DTSTART;VALUE=DATE:20260426
LOCATION:Cadillac Palace\, Chicago
ORGANIZER;CN=:mailto:events@events.org
SEQUENCE:0
SUMMARY:The Great Gatsby (Chicago)
UID:bd188cc3-015b-4f5f-9097-6159a35392d3
URL:https://events.org/e/The-Great-Gatsby-Chicago/KDWF4UMJ
BEGIN:VALARM
ACTION:DISPLAY
SUMMARY:Reminder
TRIGGER:-P1D
END:VALARM
END:VEVENT
END:VCALENDAR
