BEGIN:VCALENDAR
METHOD:REQUEST
PRODID:-//events.orgNONSGML ical.net 4.0//EN
VERSION:2.0
BEGIN:VEVENT
DTEND;VALUE=DATE:20260601
DTSTAMP:20260423T133206Z
DTSTART;VALUE=DATE:20260601
LOCATION:The Cambridge Room at House Of Blues\, Dallas
ORGANIZER;CN=:mailto:events@events.org
SEQUENCE:0
SUMMARY:Feng's Weekend Rockstar Tour
UID:cd636e7b-d9ed-4099-83bc-b241bde586f3
URL:https://events.org/e/Fengs-Weekend-Rockstar-Tour/L5S2MQT9
BEGIN:VALARM
ACTION:DISPLAY
SUMMARY:Reminder
TRIGGER:-P1D
END:VALARM
END:VEVENT
END:VCALENDAR
