BEGIN:VCALENDAR
METHOD:REQUEST
PRODID:-//events.orgNONSGML ical.net 4.0//EN
VERSION:2.0
BEGIN:VEVENT
DTEND;VALUE=DATE:20260528
DTSTAMP:20260426T001456Z
DTSTART;VALUE=DATE:20260528
LOCATION:The Foundry\, Philadelphia
ORGANIZER;CN=:mailto:events@events.org
SEQUENCE:0
SUMMARY:Em Beihold: Tales Of A Failed Shapeshifter Tour
UID:b516315e-b94f-486a-b611-b26564a7aa9f
URL:https://events.org/e/Em-Beihold-Tales-Of-A-Failed-Shapeshifter-Tour/OC
 BAYGP2
BEGIN:VALARM
ACTION:DISPLAY
SUMMARY:Reminder
TRIGGER:-P1D
END:VALARM
END:VEVENT
END:VCALENDAR
