BEGIN:VCALENDAR
METHOD:REQUEST
PRODID:-//events.orgNONSGML ical.net 4.0//EN
VERSION:2.0
BEGIN:VEVENT
DTEND;VALUE=DATE:20260607
DTSTAMP:20260421T082457Z
DTSTART;VALUE=DATE:20260607
LOCATION:Snapdragon Stadium\, San Diego
ORGANIZER;CN=:mailto:events@events.org
SEQUENCE:0
SUMMARY:Colombia vs Jordan
UID:c1950621-88fa-4cde-b803-b67c4e62e2f3
URL:https://events.org/e/Colombia-vs-Jordan/JXT9H6MG
BEGIN:VALARM
ACTION:DISPLAY
SUMMARY:Reminder
TRIGGER:-P1D
END:VALARM
END:VEVENT
END:VCALENDAR
