BEGIN:VCALENDAR
METHOD:REQUEST
PRODID:-//events.orgNONSGML ical.net 4.0//EN
VERSION:2.0
BEGIN:VEVENT
DTEND;VALUE=DATE:20260517
DTSTAMP:20260421T082001Z
DTSTART;VALUE=DATE:20260517
LOCATION:Chicago Architecture Center - First Lady\, Chicago
ORGANIZER;CN=:mailto:events@events.org
SEQUENCE:0
SUMMARY:Chicago Architecture Center River Cruise Aboard First Lady
UID:ba980996-24c7-4f24-9e97-205595687557
URL:https://events.org/e/Chicago-Architecture-Center-River-Cruise-Aboa/K62
 2A3RO
BEGIN:VALARM
ACTION:DISPLAY
SUMMARY:Reminder
TRIGGER:-P1D
END:VALARM
END:VEVENT
END:VCALENDAR
