BEGIN:VCALENDAR
METHOD:REQUEST
PRODID:-//events.orgNONSGML ical.net 4.0//EN
VERSION:2.0
BEGIN:VEVENT
DTEND;VALUE=DATE:20260507
DTSTAMP:20260421T095306Z
DTSTART;VALUE=DATE:20260507
LOCATION:Elysian Theater\, Los Angeles
ORGANIZER;CN=:mailto:events@events.org
SEQUENCE:0
SUMMARY:Netflix Is A Joke Presents: Rhys Darby: The Legend Returns (16+ Ev
 ent)
UID:3e7af32b-16de-4219-ab9e-e06477c90746
URL:https://events.org/e/Netflix-Is-A-Joke-Presents-Rhys-Darby-The-Leg/QT7
 CKELJ
BEGIN:VALARM
ACTION:DISPLAY
SUMMARY:Reminder
TRIGGER:-P1D
END:VALARM
END:VEVENT
END:VCALENDAR
