BEGIN:VCALENDAR
METHOD:REQUEST
PRODID:-//events.orgNONSGML ical.net 4.0//EN
VERSION:2.0
BEGIN:VEVENT
DTEND;VALUE=DATE:20260425
DTSTAMP:20260423T133938Z
DTSTART;VALUE=DATE:20260425
LOCATION:Academy LA\, Los Angeles
ORGANIZER;CN=:mailto:events@events.org
SEQUENCE:0
SUMMARY:Nifra x Will Atkinson
UID:4ba5fa0a-af39-4ae7-9318-715524a8c1e4
URL:https://events.org/e/Nifra-x-Will-Atkinson/4SGIY5BA
BEGIN:VALARM
ACTION:DISPLAY
SUMMARY:Reminder
TRIGGER:-P1D
END:VALARM
END:VEVENT
END:VCALENDAR
