BEGIN:VCALENDAR
METHOD:REQUEST
PRODID:-//events.orgNONSGML ical.net 4.0//EN
VERSION:2.0
BEGIN:VEVENT
DTEND;VALUE=DATE:20260517
DTSTAMP:20260423T133752Z
DTSTART;VALUE=DATE:20260517
LOCATION:Royale Boston\, Boston
ORGANIZER;CN=:mailto:events@events.org
SEQUENCE:0
SUMMARY:Oteil Burbridge (18 and Over)
UID:024d77b6-8da7-45b9-b293-34df006a65c5
URL:https://events.org/e/Oteil-Burbridge-18-and-Over/RXEB3JTR
BEGIN:VALARM
ACTION:DISPLAY
SUMMARY:Reminder
TRIGGER:-P1D
END:VALARM
END:VEVENT
END:VCALENDAR
