BEGIN:VCALENDAR
METHOD:REQUEST
PRODID:-//events.orgNONSGML ical.net 4.0//EN
VERSION:2.0
BEGIN:VEVENT
DTEND;VALUE=DATE:20260923
DTSTAMP:20260421T082141Z
DTSTART;VALUE=DATE:20260923
LOCATION:Citizens Opera House\, Boston
ORGANIZER;CN=:mailto:events@events.org
SEQUENCE:0
SUMMARY:Wicked (Touring)
UID:4bde7af4-4acb-47d9-b45f-6b386aa7e0d0
URL:https://events.org/e/Wicked-Touring/4TGDCV2A
BEGIN:VALARM
ACTION:DISPLAY
SUMMARY:Reminder
TRIGGER:-P1D
END:VALARM
END:VEVENT
END:VCALENDAR
