BEGIN:VCALENDAR
METHOD:REQUEST
PRODID:-//events.orgNONSGML ical.net 4.0//EN
VERSION:2.0
BEGIN:VEVENT
DTEND;VALUE=DATE:20260426
DTSTAMP:20260424T081411Z
DTSTART;VALUE=DATE:20260426
LOCATION:James Earl Jones Theatre\, New York
ORGANIZER;CN=:mailto:events@events.org
SEQUENCE:0
SUMMARY:The Fear of 13
UID:152e1902-7254-4f21-b8e2-39a5d97695fb
URL:https://events.org/e/The-Fear-of-13/KN9KFU2T
BEGIN:VALARM
ACTION:DISPLAY
SUMMARY:Reminder
TRIGGER:-P1D
END:VALARM
END:VEVENT
END:VCALENDAR
