BEGIN:VCALENDAR
METHOD:REQUEST
PRODID:-//events.orgNONSGML ical.net 4.0//EN
VERSION:2.0
BEGIN:VEVENT
DTEND;VALUE=DATE:20260902
DTSTAMP:20260421T082244Z
DTSTART;VALUE=DATE:20260902
LOCATION:Lincoln Financial Field\, Philadelphia
ORGANIZER;CN=:mailto:events@events.org
SEQUENCE:0
SUMMARY:Bruno Mars - The Romantic Tour
UID:61b5d95c-3b2b-4ee8-b775-602b6b034347
URL:https://events.org/e/Bruno-Mars---The-Romantic-Tour/D67IBWBH
BEGIN:VALARM
ACTION:DISPLAY
SUMMARY:Reminder
TRIGGER:-P1D
END:VALARM
END:VEVENT
END:VCALENDAR
