BEGIN:VCALENDAR
METHOD:REQUEST
PRODID:-//events.orgNONSGML ical.net 4.0//EN
VERSION:2.0
BEGIN:VEVENT
DTEND;VALUE=DATE:20260425
DTSTAMP:20260422T090802Z
DTSTART;VALUE=DATE:20260425
LOCATION:Metropolitan Opera House\, New York
ORGANIZER;CN=:mailto:events@events.org
SEQUENCE:0
SUMMARY:La Boheme
UID:756c41a2-de04-4f55-a7c7-c7cf3bb99522
URL:https://events.org/e/La-Boheme/NKBA8VJK
BEGIN:VALARM
ACTION:DISPLAY
SUMMARY:Reminder
TRIGGER:-P1D
END:VALARM
END:VEVENT
END:VCALENDAR
