BEGIN:VCALENDAR
METHOD:REQUEST
PRODID:-//events.orgNONSGML ical.net 4.0//EN
VERSION:2.0
BEGIN:VEVENT
DTEND;VALUE=DATE:20261110
DTSTAMP:20260424T092107Z
DTSTART;VALUE=DATE:20261110
LOCATION:Saint Andrew's Hall\, Detroit
ORGANIZER;CN=:mailto:events@events.org
SEQUENCE:0
SUMMARY:Palace - USA & Canada Tour 2026
UID:56d3c0de-635d-4b0c-8251-4a63e9c412dd
URL:https://events.org/e/Palace---USA-Canada-Tour-2026/CXMP4EEM
BEGIN:VALARM
ACTION:DISPLAY
SUMMARY:Reminder
TRIGGER:-P1D
END:VALARM
END:VEVENT
END:VCALENDAR
