BEGIN:VCALENDAR
METHOD:REQUEST
PRODID:-//events.orgNONSGML ical.net 4.0//EN
VERSION:2.0
BEGIN:VEVENT
DTEND;VALUE=DATE:20260423
DTSTAMP:20260422T091017Z
DTSTART;VALUE=DATE:20260423
LOCATION:Longacre Theatre\, New York
ORGANIZER;CN=:mailto:events@events.org
SEQUENCE:0
SUMMARY:Two Strangers (Carry a Cake Across New York)
UID:76330d44-2d81-4917-8773-0683d89e5eea
URL:https://events.org/e/Two-Strangers-Carry-a-Cake-Across-New-York/H9D9C5
 DG
BEGIN:VALARM
ACTION:DISPLAY
SUMMARY:Reminder
TRIGGER:-P1D
END:VALARM
END:VEVENT
END:VCALENDAR
