BEGIN:VCALENDAR
METHOD:REQUEST
PRODID:-//events.orgNONSGML ical.net 4.0//EN
VERSION:2.0
BEGIN:VEVENT
DTEND;VALUE=DATE:20260621
DTSTAMP:20260419T143435Z
DTSTART;VALUE=DATE:20260621
LOCATION:Citizens House of Blues Boston\, Boston
ORGANIZER;CN=:mailto:events@events.org
SEQUENCE:0
SUMMARY:WOLFMOTHER - 20th Anniversary Tour
UID:1de33aff-8ff1-4293-8c97-14c9adc0f27f
URL:https://events.org/e/WOLFMOTHER---20th-Anniversary-Tour/FERDHGHI
BEGIN:VALARM
ACTION:DISPLAY
SUMMARY:Reminder
TRIGGER:-P1D
END:VALARM
END:VEVENT
END:VCALENDAR
