BEGIN:VCALENDAR
METHOD:REQUEST
PRODID:-//events.orgNONSGML ical.net 4.0//EN
VERSION:2.0
BEGIN:VEVENT
DTEND;VALUE=DATE:20260423
DTSTAMP:20260422T091845Z
DTSTART;VALUE=DATE:20260423
LOCATION:Gerald Schoenfeld Theatre\, New York
ORGANIZER;CN=:mailto:events@events.org
SEQUENCE:0
SUMMARY:Buena Vista Social Club
UID:f2b33cbb-d5f2-402f-804c-d0297375f475
URL:https://events.org/e/Buena-Vista-Social-Club/CY6UH3CF
BEGIN:VALARM
ACTION:DISPLAY
SUMMARY:Reminder
TRIGGER:-P1D
END:VALARM
END:VEVENT
END:VCALENDAR
