BEGIN:VCALENDAR
METHOD:REQUEST
PRODID:-//events.orgNONSGML ical.net 4.0//EN
VERSION:2.0
BEGIN:VEVENT
DTEND;VALUE=DATE:20260702
DTSTAMP:20260421T144023Z
DTSTART;VALUE=DATE:20260702
LOCATION:Leader Bank Pavilion\, Boston
ORGANIZER;CN=:mailto:events@events.org
SEQUENCE:0
SUMMARY:Kes - Roots\, Rock\, Soca Tour
UID:bc4a0a74-b932-4f8a-be81-97bbb4af2592
URL:https://events.org/e/Kes---Roots-Rock-Soca-Tour/2DWOSFNO
BEGIN:VALARM
ACTION:DISPLAY
SUMMARY:Reminder
TRIGGER:-P1D
END:VALARM
END:VEVENT
END:VCALENDAR
