BEGIN:VCALENDAR
METHOD:REQUEST
PRODID:-//events.orgNONSGML ical.net 4.0//EN
VERSION:2.0
BEGIN:VEVENT
DTEND;VALUE=DATE:20260625
DTSTAMP:20260422T090541Z
DTSTART;VALUE=DATE:20260625
LOCATION:ACT Theatre\, Seattle
ORGANIZER;CN=:mailto:events@events.org
SEQUENCE:0
SUMMARY:Frida...A Self Portrait
UID:0df5ea06-011e-4ea8-af0b-aff52cc4f0f8
URL:https://events.org/e/FridaA-Self-Portrait/52VFAVIA
BEGIN:VALARM
ACTION:DISPLAY
SUMMARY:Reminder
TRIGGER:-P1D
END:VALARM
END:VEVENT
END:VCALENDAR
